BEGIN:VCALENDAR
VERSION:2.0
PRODID:-//www.childrensheartfoundation.org//NONSGML kigkonsult.se iCalcreat
 or 2.30.10//
CALSCALE:GREGORIAN
METHOD:PUBLISH
UID:c63e17e4-f9d9-47be-ba64-2c2b5b9f6239
X-WR-CALDESC:
X-WR-RELCALID:8367de8d7303836b1d76957c22c5beb0
X-WR-TIMEZONE:America/Chicago
BEGIN:VTIMEZONE
TZID:America/Chicago
BEGIN:STANDARD
TZNAME:CST
DTSTART:20251102T020000
TZOFFSETFROM:-0500
TZOFFSETTO:-0600
RDATE:20261101T020000
RDATE:20271107T020000
END:STANDARD
BEGIN:DAYLIGHT
TZNAME:CDT
DTSTART:20260308T020000
TZOFFSETFROM:-0600
TZOFFSETTO:-0500
RDATE:20270314T020000
END:DAYLIGHT
END:VTIMEZONE
BEGIN:VEVENT
UID:ea43a79d-5496-4b35-8faf-22d1091faea7
DTSTAMP:20260424T212616Z
DESCRIPTION:
DTSTART;TZID=America/Chicago:20260808T050000
DTEND;TZID=America/Chicago:20260808T050001
LOCATION:Cincinnati Zoo
SUMMARY:Cincinnati Congenital Heart Walk
END:VEVENT
END:VCALENDAR
