BEGIN:VCALENDAR
VERSION:2.0
PRODID:-//www.childrensheartfoundation.org//NONSGML kigkonsult.se iCalcreat
 or 2.30.10//
CALSCALE:GREGORIAN
METHOD:PUBLISH
UID:9d4fd65f-0b36-4a99-bfa3-592b9e46b08e
X-WR-CALDESC:Join us for a meaningful one-mile walk where heart families\, 
 supporters\, and survivors unite for change. This family-friendly event br
 ings our community together\, honoring Heart Warriors we've lost and celeb
 rating those still fighting. We walk side by side - heart families\, berea
 ved families\, and supporters - showing that no one faces CHDs alone.\n\n
X-WR-RELCALID:dae37a48cd26f692b600d4fd052a2830
X-WR-TIMEZONE:America/Chicago
BEGIN:VTIMEZONE
TZID:America/Chicago
BEGIN:STANDARD
TZNAME:CST
DTSTART:20241103T020000
TZOFFSETFROM:-0500
TZOFFSETTO:-0600
RDATE:20251102T020000
RDATE:20261101T020000
END:STANDARD
BEGIN:DAYLIGHT
TZNAME:CDT
DTSTART:20250309T020000
TZOFFSETFROM:-0600
TZOFFSETTO:-0500
RDATE:20260308T020000
RDATE:20270314T020000
END:DAYLIGHT
END:VTIMEZONE
BEGIN:VEVENT
UID:c5e7e4c0-554d-430c-b641-036a84152208
DTSTAMP:20260424T231343Z
DESCRIPTION:Join us for a meaningful one-mile walk where heart families\, s
 upporters\, and survivors unite for change. This family-friendly event bri
 ngs our community together\, honoring Heart Warriors we've lost and celebr
 ating those still fighting. We walk side by side - heart families\, bereav
 ed families\, and supporters - showing that no one faces CHDs alone.\n\n
DTSTART;TZID=America/Chicago:20251004T050000
DTEND;TZID=America/Chicago:20251004T050001
LOCATION:Brook Run Park\, Dunwoody\, GA
SUMMARY:Atlanta Congenital Heart Walk
END:VEVENT
END:VCALENDAR
