BEGIN:VCALENDAR
VERSION:2.0
PRODID:-//www.childrensheartfoundation.org//NONSGML kigkonsult.se iCalcreat
 or 2.30.10//
CALSCALE:GREGORIAN
METHOD:PUBLISH
UID:18530107-603f-431b-a19d-484d53409700
X-WR-CALDESC:Testing 123
X-WR-RELCALID:8013f6e31920fbe73f658895190a8787
X-WR-TIMEZONE:America/Chicago
BEGIN:VTIMEZONE
TZID:America/Chicago
BEGIN:STANDARD
TZNAME:CST
DTSTART:20181104T020000
TZOFFSETFROM:-0500
TZOFFSETTO:-0600
RDATE:20191103T020000
END:STANDARD
BEGIN:DAYLIGHT
TZNAME:CDT
DTSTART:20180311T020000
TZOFFSETFROM:-0600
TZOFFSETTO:-0500
RDATE:20190310T020000
RDATE:20200308T020000
END:DAYLIGHT
END:VTIMEZONE
BEGIN:VEVENT
UID:2b2686c8-e868-4c2d-9a79-9752c1fb5dc1
DTSTAMP:20260425T105150Z
DESCRIPTION:Testing 123
DTSTART;TZID=America/Chicago:20181220T143000
DTEND;TZID=America/Chicago:20181220T173000
LOCATION:
SUMMARY:Test Event
END:VEVENT
END:VCALENDAR
