BEGIN:VCALENDAR
VERSION:2.0
PRODID:-//www.childrensheartfoundation.org//NONSGML kigkonsult.se iCalcreat
 or 2.30.10//
CALSCALE:GREGORIAN
METHOD:PUBLISH
UID:7b4c9304-63ac-4e02-9907-797db9274ba9
X-WR-CALDESC:
X-WR-RELCALID:4e0780b8748e459201f4721229582788
X-WR-TIMEZONE:America/Chicago
BEGIN:VTIMEZONE
TZID:America/Chicago
BEGIN:STANDARD
TZNAME:CST
DTSTART:20251102T020000
TZOFFSETFROM:-0500
TZOFFSETTO:-0600
RDATE:20261101T020000
RDATE:20271107T020000
END:STANDARD
BEGIN:DAYLIGHT
TZNAME:CDT
DTSTART:20260308T020000
TZOFFSETFROM:-0600
TZOFFSETTO:-0500
RDATE:20270314T020000
END:DAYLIGHT
END:VTIMEZONE
BEGIN:VEVENT
UID:ffb6034a-21ba-42a0-9d2a-ea016283d7c6
DTSTAMP:20260425T035839Z
DESCRIPTION:
DTSTART;TZID=America/Chicago:20260613T050000
DTEND;TZID=America/Chicago:20260613T050001
LOCATION:Marine Parade Grounds at the Navy Yard\, Philadelphia\, PA
SUMMARY:Philadelphia Congenital Heart Walk
END:VEVENT
END:VCALENDAR
